BEGIN:VCALENDAR
VERSION:2.0
PRODID:-//CERN//INDICO//EN
BEGIN:VEVENT
SUMMARY:Vibe Research 实战：四个月，十四篇直接反应论文是
 怎么做出来的
DTSTART;VALUE=DATE-TIME:20260420T020000Z
DTEND;VALUE=DATE-TIME:20260420T033000Z
DTSTAMP;VALUE=DATE-TIME:20260425T164500Z
UID:indico-event-4932@indico-tdli.sjtu.edu.cn
DESCRIPTION:Speakers: Lei Jin（金磊） (Tongji University)\n\nAbstract:
 过去四个月，我在大语言模型的日常协助下完成了十四
 篇直接核反应方向的理论论文。没有新机器、没有新理
 论、没有新学生，改变的只是研究者与工具之间的分工
 。这是一份完全基于个人实践的工作流报告。直接反应
 是一个理论框架几十年前就已封顶的子领域，真正卡住
 这个方向的从来不是想不出，而是做不完：角动量重耦
 、坐标变换、图表打磨、审稿回复，一个人一年能做完
 的物理远少于他能想到的物理。LLM恰好擅长这类结构清
 晰但繁琐的劳动。我会用真实案例拆解完整流程，说明 L
 LM 在哪些环节承担主力（文献综述、推导校验、代码原
 型、图像、初稿），哪些环节不可替代（选题、物理判
 断、数值合理性的直觉）。Vibe Research 不是让 AI替你做物
 理，而是把物理之外的一切工序交给 AI，再把省下的时
 间用来做更多的物理。但直接反应只是一个极端样本。
 无论是 ab initio结构、壳模型、核天体反应网络还是裂变
 聚变动力学，整个核物理都有同一个结构性处境：理论
 骨架早已搭好，真正的瓶颈是做不完。放射性束流实验
 的数据以近乎指数的速度增长，而能把数据翻译成物理
 的理论家几乎停滞。如果限制我们产出的从来不是想象
 力而是人力，那么当一个能够放大劳动力的工具第一次
 可用，我们面对的就不是多发几篇论文的问题，而是一
 次学科的重新定位：核物理是继续作为一门越做越精致
 的守成学科，还是在我们这代人手里重新成为一个对低
 能量子多体、对元素起源、对精密检验标准模型仍在主
 动设问的前沿。我这四个月的十四篇论文不是答案，只
 是一个早期的证据。Biography:金磊，同济大学物理科学与
 工程学院教授、博士生导师。金磊教授于2016年在西班牙
 塞维利亚大学获得博士学位，2016-2020年先后在俄亥俄大
 学及意大利 INFN-Pisa从事博士后研究，2020年入职同济大学
 ，2021年入选国家级高层次青年人才计划。金磊教授从事
 量子少体理论、大爆炸核合成、原子核反应、及原子核
 的第一性原理计算等方面研究，在PRL、PLB等高水平期刊
 发表学术论50余篇。Host: Prof. Yifei NiuAlternative online link：h
 ttps://meeting.tencent.com/dm/ZnnqGWUTxnCAID:674736189   Password: 123456
 \n\nhttps://indico-tdli.sjtu.edu.cn/event/4932/
LOCATION:5#/6th-203 - Meeting Room 203 (Science Building)
URL:https://indico-tdli.sjtu.edu.cn/event/4932/
END:VEVENT
END:VCALENDAR
