BEGIN:VCALENDAR
VERSION:2.0
PRODID:-//CERN//INDICO//EN
BEGIN:VEVENT
SUMMARY:【T. D. Lee Colloquium No.31】The Two Quantum Revolutions
DTSTART;VALUE=DATE-TIME:20260423T060000Z
DTEND;VALUE=DATE-TIME:20260423T070000Z
DTSTAMP;VALUE=DATE-TIME:20260426T024300Z
UID:indico-event-4950@indico-tdli.sjtu.edu.cn
DESCRIPTION:Speakers: Imad Laktineh (the University of Lyon)\n\nHost: Prof
 . Xiaogang He （何小刚）Abstract:Although the revolution of the Quant
 um Mechanics took place more than one century ago\, many questions remain 
 unanswered and several of its paradoxes are not only still alive but help 
 contribute to the so-called second quantum revolution.  In this colloquiu
 m\, we will go back to the first steps of QM reminding its intriguing feat
 ures. The historical debates and the different proposed interpretations wi
 ll be presented. EPR paradox and the Bell inequalities will then be introd
 uced and used to explain the exciting quantum activities that are ongoing.
  Quantum cryptography\, Qubits and quantum computing as well as quantum se
 nsors will be then presented and a few examples will be given. Bio:Imad L
 aktineh is a distinguished professor at the University of Lyon. After a Ph
 D in theoretical physics\, he joined the LEP experiments (DELPHI and L3) w
 orking on b-quark physics and SUSY searches respectively. After LEP\, he j
 oined OPERA collaboration to study neutrino oscillations. Since 2006\, his
  main activities are on detector R&D for the experiments of future high-en
 ergy colliders (HL-LHC\, ILC\, CEPC and FCCee). He developed the concept o
 f the Semi-Digital Hadronic Calorimeter SDHCAL and led the construction of
  the first technological prototype of the CALICE collaboration using this 
 concept. He is currently working on T-SDHCAL with timing information to im
 prove on the Particle Flow Algorithms (PFA) techniques. He initiated the C
 MS-iRPC project proposing a new RPC readout concept. He developed a new te
 chnique for muon tomography using (M)RPC detectors. He recently invented t
 he PICMIC concept that intends to fully exploit both the excellent spatial
  and time resolutions of the MCP devices. In parallel\, he is developing s
 imilar devices with much better performances named NCP for Nano Channel Pl
 ates. Pr. Laktineh is very active in the new DRD collaborations with leadi
 ng roles in DRD1 (gaseous detectors)\, DRD4 (photo-detection) and DRD6 (ca
 lorimetry). He was served as a scientific adviser of the CNRS-IN2P3 for in
 novative detectors and quantum technologies. He was named a CNRS Ambassado
 r for Innovation in 2025.\n\nhttps://indico-tdli.sjtu.edu.cn/event/4950/
LOCATION:Tsung-Dao Lee Institute/S5F-S500 - Lecture Hall (Tsung-Dao Lee In
 stitute)
URL:https://indico-tdli.sjtu.edu.cn/event/4950/
END:VEVENT
END:VCALENDAR
